BEGIN:VCALENDAR
VERSION:2.0
PRODID:-//Educafe - ECPv6.15.20//NONSGML v1.0//EN
CALSCALE:GREGORIAN
METHOD:PUBLISH
X-ORIGINAL-URL:https://www.educafeuk.co.uk
X-WR-CALDESC:Events for Educafe
REFRESH-INTERVAL;VALUE=DURATION:PT1H
X-Robots-Tag:noindex
X-PUBLISHED-TTL:PT1H
BEGIN:VTIMEZONE
TZID:UTC
BEGIN:STANDARD
TZOFFSETFROM:+0000
TZOFFSETTO:+0000
TZNAME:UTC
DTSTART:20200101T000000
END:STANDARD
END:VTIMEZONE
BEGIN:VTIMEZONE
TZID:Asia/Karachi
BEGIN:STANDARD
TZOFFSETFROM:+0500
TZOFFSETTO:+0500
TZNAME:PKT
DTSTART:20200101T000000
END:STANDARD
END:VTIMEZONE
BEGIN:VEVENT
DTSTART;TZID=UTC:20211202T100000
DTEND;TZID=UTC:20211202T120000
DTSTAMP:20260421T032357
CREATED:20210702T162632Z
LAST-MODIFIED:20210702T162632Z
UID:1085-1638439200-1638446400@www.educafeuk.co.uk
SUMMARY:Dementia Walks - West Berkshire
DESCRIPTION:How to join\nTo book your place or find out about upcoming dates\, please email Victoria Rowland\, our Dementia Coordinator\, at victoria.rowland@ageukberkshire.org.uk. Alternatively\, call us on 0118 959 4242.
URL:https://www.educafeuk.co.uk/event/dementia-walks-west-berkshire-7/
ORGANIZER;CN="Age UK Berkshire":MAILTO: victoria.rowland@ageukberkshire.org.uk
END:VEVENT
BEGIN:VEVENT
DTSTART;TZID=UTC:20211115T110000
DTEND;TZID=UTC:20211115T110000
DTSTAMP:20260421T032357
CREATED:20211026T185957Z
LAST-MODIFIED:20211026T185957Z
UID:1863-1636974000-1636974000@www.educafeuk.co.uk
SUMMARY:How to build you confidence\, motivation and resilience when returning to work.
DESCRIPTION:
URL:https://www.educafeuk.co.uk/event/how-to-build-you-confidence-motivation-and-resilience-when-returning-to-work/
ORGANIZER;CN="National Careers Service":MAILTO:ncsdigitalteam@adviza.org.uk
END:VEVENT
BEGIN:VEVENT
DTSTART;TZID=UTC:20211114T100000
DTEND;TZID=UTC:20211114T120000
DTSTAMP:20260421T032357
CREATED:20210702T162130Z
LAST-MODIFIED:20210702T162130Z
UID:1081-1636884000-1636891200@www.educafeuk.co.uk
SUMMARY:Dementia Walks - West Berkshire
DESCRIPTION:How to join\nTo book your place or find out about upcoming dates\, please email Victoria Rowland\, our Dementia Coordinator\, at victoria.rowland@ageukberkshire.org.uk. Alternatively\, call us on 0118 959 4242.
URL:https://www.educafeuk.co.uk/event/dementia-walks-west-berkshire-5/
ORGANIZER;CN="Age UK Berkshire":MAILTO: victoria.rowland@ageukberkshire.org.uk
END:VEVENT
BEGIN:VEVENT
DTSTART;TZID=UTC:20211108T110000
DTEND;TZID=UTC:20211108T170000
DTSTAMP:20260421T032357
CREATED:20211026T185755Z
LAST-MODIFIED:20211026T185755Z
UID:1861-1636369200-1636390800@www.educafeuk.co.uk
SUMMARY:How to use social media to gain employment.
DESCRIPTION:
URL:https://www.educafeuk.co.uk/event/how-to-use-social-media-to-gain-employment/
ORGANIZER;CN="National Careers Service":MAILTO:ncsdigitalteam@adviza.org.uk
END:VEVENT
BEGIN:VEVENT
DTSTART;TZID=UTC:20211104T100000
DTEND;TZID=UTC:20211104T120000
DTSTAMP:20260421T032357
CREATED:20210702T162357Z
LAST-MODIFIED:20210702T162357Z
UID:1083-1636020000-1636027200@www.educafeuk.co.uk
SUMMARY:Dementia Walks - West Berkshire
DESCRIPTION:How to join\nTo book your place or find out about upcoming dates\, please email Victoria Rowland\, our Dementia Coordinator\, at victoria.rowland@ageukberkshire.org.uk. Alternatively\, call us on 0118 959 4242.
URL:https://www.educafeuk.co.uk/event/dementia-walks-west-berkshire-6/
ORGANIZER;CN="Age UK Berkshire":MAILTO: victoria.rowland@ageukberkshire.org.uk
END:VEVENT
BEGIN:VEVENT
DTSTART;TZID=UTC:20211103T100000
DTEND;TZID=UTC:20211103T140000
DTSTAMP:20260421T032357
CREATED:20211012T091123Z
LAST-MODIFIED:20211012T091123Z
UID:1744-1635933600-1635948000@www.educafeuk.co.uk
SUMMARY:
DESCRIPTION:NEED HELP WITH LOOKING FOR WORK.
URL:https://www.educafeuk.co.uk/event/1744/
LOCATION:Zoom\, United Kingdom
END:VEVENT
BEGIN:VEVENT
DTSTART;TZID=UTC:20211101T100000
DTEND;TZID=UTC:20211101T140000
DTSTAMP:20260421T032357
CREATED:20211026T185329Z
LAST-MODIFIED:20211026T185329Z
UID:1858-1635760800-1635775200@www.educafeuk.co.uk
SUMMARY:Webinars for job seeking (National Careers Service)
DESCRIPTION:
URL:https://www.educafeuk.co.uk/event/webinars-for-job-seeking-national-careers-service/
ORGANIZER;CN="National Careers Service":MAILTO:ncsdigitalteam@adviza.org.uk
END:VEVENT
BEGIN:VEVENT
DTSTART;TZID=UTC:20211026T080000
DTEND;TZID=UTC:20211026T170000
DTSTAMP:20260421T032357
CREATED:20211026T190416Z
LAST-MODIFIED:20211026T190416Z
UID:1865-1635235200-1635267600@www.educafeuk.co.uk
SUMMARY:How to develop a winning cv and cover letter.
DESCRIPTION:
URL:https://www.educafeuk.co.uk/event/how-to-develop-a-winning-cv-and-cover-letter/
ORGANIZER;CN="National Careers Service":MAILTO:ncsdigitalteam@adviza.org.uk
END:VEVENT
BEGIN:VEVENT
DTSTART;TZID=UTC:20211007T093000
DTEND;TZID=UTC:20211225T113000
DTSTAMP:20260421T032357
CREATED:20210826T063503Z
LAST-MODIFIED:20210826T063625Z
UID:1463-1633599000-1640431800@www.educafeuk.co.uk
SUMMARY:Time out for special needs
DESCRIPTION:
URL:https://www.educafeuk.co.uk/event/time-out-for-special-needs/
LOCATION:Calcot and Theale Area childrens centre Calcot infant school\, Curtis Road Calcot\, Reading\, Berkshire\, RG31 4XG\, United Kingdom
END:VEVENT
BEGIN:VEVENT
DTSTART;TZID=UTC:20211007T080000
DTEND;TZID=UTC:20211007T170000
DTSTAMP:20260421T032357
CREATED:20210702T161909Z
LAST-MODIFIED:20210702T161909Z
UID:1079-1633593600-1633626000@www.educafeuk.co.uk
SUMMARY:Dementia Walks - West Berkshire 
DESCRIPTION:How to join\nTo book your place or find out about upcoming dates\, please email Victoria Rowland\, our Dementia Coordinator\, at victoria.rowland@ageukberkshire.org.uk. Alternatively\, call us on 0118 959 4242.
URL:https://www.educafeuk.co.uk/event/dementia-walks-west-berkshire-4/
ORGANIZER;CN="Age UK Berkshire":MAILTO: victoria.rowland@ageukberkshire.org.uk
END:VEVENT
BEGIN:VEVENT
DTSTART;TZID=Asia/Karachi:20210925T140000
DTEND;TZID=Asia/Karachi:20210925T140000
DTSTAMP:20260421T032357
CREATED:20210918T130622Z
LAST-MODIFIED:20210918T130622Z
UID:1575-1632578400-1632578400@www.educafeuk.co.uk
SUMMARY:Newbury town councils climate change workshop.
DESCRIPTION:
URL:https://www.educafeuk.co.uk/event/newbury-town-councils-climate-change-workshop/
LOCATION:St Johns Church and Hall\, Newbury\, Newbury\, Berkshire\, RG14 7PY\, United Kingdom
END:VEVENT
BEGIN:VEVENT
DTSTART;TZID=UTC:20210925T110000
DTEND;TZID=UTC:20210925T150000
DTSTAMP:20260421T032357
CREATED:20210918T130325Z
LAST-MODIFIED:20210918T130325Z
UID:1571-1632567600-1632582000@www.educafeuk.co.uk
SUMMARY:Meadow mowing the nineteenth century way
DESCRIPTION:
URL:https://www.educafeuk.co.uk/event/meadow-mowing-the-nineteenth-century-way/
LOCATION:The wildlife allotment garden\, Cold ash Newbury\, Newbury\, Berkshire\, RG18 9PR\, United Kingdom
END:VEVENT
BEGIN:VEVENT
DTSTART;TZID=UTC:20210923T193000
DTEND;TZID=UTC:20210923T213000
DTSTAMP:20260421T032357
CREATED:20210918T131147Z
LAST-MODIFIED:20210918T131147Z
UID:1579-1632425400-1632432600@www.educafeuk.co.uk
SUMMARY:Hamstead Marshall Wildlife Group Evening
DESCRIPTION:
URL:https://www.educafeuk.co.uk/event/hamstead-marshall-wildlife-group-evening/
LOCATION:Hamstead Marshall Village Hall\, Newbury\, Newbury\, Berkshire\, RG20 0HL\, United Kingdom
END:VEVENT
BEGIN:VEVENT
DTSTART;TZID=UTC:20210923T100000
DTEND;TZID=UTC:20210923T100000
DTSTAMP:20260421T032357
CREATED:20210918T133914Z
LAST-MODIFIED:20210918T133914Z
UID:1594-1632391200-1632391200@www.educafeuk.co.uk
SUMMARY:Coffee and Coaching
DESCRIPTION:
URL:https://www.educafeuk.co.uk/event/coffee-and-coaching/
LOCATION:Kennet valey free church\, United Kingdom
END:VEVENT
BEGIN:VEVENT
DTSTART;TZID=UTC:20210922T080000
DTEND;TZID=UTC:20210922T170000
DTSTAMP:20260421T032357
CREATED:20210918T131429Z
LAST-MODIFIED:20210918T131429Z
UID:1588-1632297600-1632330000@www.educafeuk.co.uk
SUMMARY:World car free day.
DESCRIPTION:
URL:https://www.educafeuk.co.uk/event/world-car-free-day/
END:VEVENT
BEGIN:VEVENT
DTSTART;TZID=UTC:20210921T193000
DTEND;TZID=UTC:20210921T210000
DTSTAMP:20260421T032357
CREATED:20210910T193031Z
LAST-MODIFIED:20210910T193031Z
UID:1542-1632252600-1632258000@www.educafeuk.co.uk
SUMMARY:The real Business Club- Starting your own business?
DESCRIPTION:
URL:https://www.educafeuk.co.uk/event/the-real-business-club-starting-your-own-business/
LOCATION:Zoom\, United Kingdom
END:VEVENT
BEGIN:VEVENT
DTSTART;TZID=UTC:20210920T000000
DTEND;TZID=UTC:20210926T000000
DTSTAMP:20260421T032357
CREATED:20210918T131324Z
LAST-MODIFIED:20210918T131324Z
UID:1586-1632096000-1632614400@www.educafeuk.co.uk
SUMMARY:Recycle week
DESCRIPTION:
URL:https://www.educafeuk.co.uk/event/recycle-week/
END:VEVENT
BEGIN:VEVENT
DTSTART;TZID=UTC:20210918T143000
DTEND;TZID=UTC:20210918T143000
DTSTAMP:20260421T032357
CREATED:20210826T065417Z
LAST-MODIFIED:20210826T065417Z
UID:1471-1631975400-1631975400@www.educafeuk.co.uk
SUMMARY:Heritage Open Day
DESCRIPTION:
URL:https://www.educafeuk.co.uk/event/heritage-open-day/
LOCATION:St Marys Church Shaw cum Donnington\, Church Road Shaw Newbury\, Newbury\, Berkshire\, RG14 2DR\, United Kingdom
END:VEVENT
BEGIN:VEVENT
DTSTART;TZID=UTC:20210918T080000
DTEND;TZID=UTC:20210918T170000
DTSTAMP:20260421T032357
CREATED:20210918T133017Z
LAST-MODIFIED:20210918T133017Z
UID:1590-1631952000-1631984400@www.educafeuk.co.uk
SUMMARY:Unemployed ??
DESCRIPTION:
URL:https://www.educafeuk.co.uk/event/unemployed/
LOCATION:Programmes are delivered online via Zoom.
END:VEVENT
BEGIN:VEVENT
DTSTART;VALUE=DATE:20210918
DTEND;VALUE=DATE:20210927
DTSTAMP:20260421T032357
CREATED:20210918T125846Z
LAST-MODIFIED:20210918T125846Z
UID:1569-1631923200-1632700799@www.educafeuk.co.uk
SUMMARY:Great big green week.
DESCRIPTION:
URL:https://www.educafeuk.co.uk/event/great-big-green-week/
END:VEVENT
BEGIN:VEVENT
DTSTART;TZID=UTC:20210917T100000
DTEND;TZID=UTC:20210917T120000
DTSTAMP:20260421T032357
CREATED:20210826T064542Z
LAST-MODIFIED:20210826T064542Z
UID:1467-1631872800-1631880000@www.educafeuk.co.uk
SUMMARY:Sleep workshop for parents/carers of children/young people with additional needs
DESCRIPTION:
URL:https://www.educafeuk.co.uk/event/sleep-workshop-for-parents-carers-of-children-young-people-with-additional-needs/
LOCATION:Zoom\, United Kingdom
END:VEVENT
BEGIN:VEVENT
DTSTART;TZID=UTC:20210915T110000
DTEND;TZID=UTC:20211229T150000
DTSTAMP:20260421T032357
CREATED:20210912T190709Z
LAST-MODIFIED:20210912T190709Z
UID:1547-1631703600-1640790000@www.educafeuk.co.uk
SUMMARY:Community Cafe
DESCRIPTION:
URL:https://www.educafeuk.co.uk/event/community-cafe-3/
LOCATION:The Globe Indoor Garden\, 147 Bartholomew St\, Newbury RG14 5HB\, Newbury\, RG14 5HB\, United Kingdom
ORGANIZER;CN="Educafe":MAILTO:info@educafeuk.co.uk
END:VEVENT
BEGIN:VEVENT
DTSTART;TZID=UTC:20210909T100000
DTEND;TZID=UTC:20210909T120000
DTSTAMP:20260421T032357
CREATED:20210702T161659Z
LAST-MODIFIED:20210702T161659Z
UID:1077-1631181600-1631188800@www.educafeuk.co.uk
SUMMARY:Dementia Walks - West Berkshire
DESCRIPTION:Do you live with dementia or care for someone who does? Looking for a dementia-friendly activity? Come along to our Dementia Walks across West Berkshire! \nHow to join\nTo book your place or find out about upcoming dates\, please email Victoria Rowland\, our Dementia Coordinator\, at victoria.rowland@ageukberkshire.org.uk. Alternatively\, call us on 0118 959 4242.
URL:https://www.educafeuk.co.uk/event/dementia-walks-west-berkshire-3/
ORGANIZER;CN="Age UK Berkshire":MAILTO: victoria.rowland@ageukberkshire.org.uk
END:VEVENT
BEGIN:VEVENT
DTSTART;TZID=UTC:20210905T110000
DTEND;TZID=UTC:20210905T180000
DTSTAMP:20260421T032357
CREATED:20210826T061815Z
LAST-MODIFIED:20210826T061815Z
UID:1460-1630839600-1630864800@www.educafeuk.co.uk
SUMMARY:One community cricket and family fun day
DESCRIPTION:
URL:https://www.educafeuk.co.uk/event/one-community-cricket-and-family-fun-day/
LOCATION:Falkland cricket club\, Enborne street\, Newbury\, Berkshire\, RG14 6TW\, United Kingdom
END:VEVENT
BEGIN:VEVENT
DTSTART;TZID=UTC:20210905T110000
DTEND;TZID=UTC:20210905T170000
DTSTAMP:20260421T032357
CREATED:20210902T190647Z
LAST-MODIFIED:20210902T190647Z
UID:1513-1630839600-1630861200@www.educafeuk.co.uk
SUMMARY:Falklands Cricket Club vaccine clinic
DESCRIPTION:One community cricket and family fun day. Drop in for 1st and 2nd Pfizer doses for ages 16+. \n(2nd dose of Pfizer needs to be atleast 8 weeks apart)
URL:https://www.educafeuk.co.uk/event/falklands-cricket-club-vaccine-clinic/
LOCATION:Falkland cricket club\, Enborne street\, Newbury\, Berkshire\, RG14 6TW\, United Kingdom
ORGANIZER;CN="Educafe":MAILTO:info@educafeuk.co.uk
END:VEVENT
BEGIN:VEVENT
DTSTART;TZID=UTC:20210903T100000
DTEND;TZID=UTC:20210903T120000
DTSTAMP:20260421T032357
CREATED:20210720T173046Z
LAST-MODIFIED:20210720T173046Z
UID:1197-1630663200-1630670400@www.educafeuk.co.uk
SUMMARY:English for Living in the Community
DESCRIPTION:
URL:https://www.educafeuk.co.uk/event/english-for-living-in-the-community-6/
LOCATION:Newbury Town Hall\, Marketplace\, Newbury RG14 5AA\, Newbury\, RG14 5AA\, United Kingdom
ORGANIZER;CN="Educafe":MAILTO:info@educafeuk.co.uk
END:VEVENT
BEGIN:VEVENT
DTSTART;TZID=UTC:20210901T110000
DTEND;TZID=UTC:20210901T120000
DTSTAMP:20260421T032357
CREATED:20210826T060739Z
LAST-MODIFIED:20210826T060900Z
UID:1456-1630494000-1630497600@www.educafeuk.co.uk
SUMMARY:Dementia cafe and carers support group
DESCRIPTION:
URL:https://www.educafeuk.co.uk/event/dementia-cafe-and-carers-support-group/
LOCATION:The fair close centre\, Newbury\, United Kingdom
END:VEVENT
BEGIN:VEVENT
DTSTART;TZID=UTC:20210901T100000
DTEND;TZID=UTC:20210904T190000
DTSTAMP:20260421T032357
CREATED:20210902T185612Z
LAST-MODIFIED:20210902T185612Z
UID:1509-1630490400-1630782000@www.educafeuk.co.uk
SUMMARY:GRAB A COVID JAB FOR 16 AND 17 YEARS OLD
DESCRIPTION:
URL:https://www.educafeuk.co.uk/event/grab-a-covid-jab-for-16-and-17-years-old/
LOCATION:Northcroft Leisure Centre Newbury\, Newbury\, Newbury\, Berkshire\, RG14 1RS\, United Kingdom
END:VEVENT
BEGIN:VEVENT
DTSTART;TZID=UTC:20210827T130000
DTEND;TZID=UTC:20210827T160000
DTSTAMP:20260421T032357
CREATED:20210809T130119Z
LAST-MODIFIED:20210809T130119Z
UID:1374-1630069200-1630080000@www.educafeuk.co.uk
SUMMARY:Skateboarding Fest\, Dunstan Skate Park
DESCRIPTION:Free Community Summer Programme \nFor young people in Thatcham aged 11-18 \nFor more information please email admin@berkshireyouth.co.uk
URL:https://www.educafeuk.co.uk/event/skateboarding-fest-dunstan-skate-park/
LOCATION:Dunstan Skate Park
ORGANIZER;CN="Berkshire Youth":MAILTO:admin@berkshireyouth.co.uk
END:VEVENT
BEGIN:VEVENT
DTSTART;TZID=UTC:20210827T100000
DTEND;TZID=UTC:20210827T120000
DTSTAMP:20260421T032357
CREATED:20210720T172909Z
LAST-MODIFIED:20210720T172909Z
UID:1195-1630058400-1630065600@www.educafeuk.co.uk
SUMMARY:English for Living in the Community
DESCRIPTION:
URL:https://www.educafeuk.co.uk/event/english-for-living-in-the-community-5/
LOCATION:Newbury Town Hall\, Marketplace\, Newbury RG14 5AA\, Newbury\, RG14 5AA\, United Kingdom
ORGANIZER;CN="Educafe":MAILTO:info@educafeuk.co.uk
END:VEVENT
END:VCALENDAR