BEGIN:VCALENDAR
VERSION:2.0
PRODID:-//Educafe - ECPv6.15.20//NONSGML v1.0//EN
CALSCALE:GREGORIAN
METHOD:PUBLISH
X-ORIGINAL-URL:https://www.educafeuk.co.uk
X-WR-CALDESC:Events for Educafe
REFRESH-INTERVAL;VALUE=DURATION:PT1H
X-Robots-Tag:noindex
X-PUBLISHED-TTL:PT1H
BEGIN:VTIMEZONE
TZID:UTC
BEGIN:STANDARD
TZOFFSETFROM:+0000
TZOFFSETTO:+0000
TZNAME:UTC
DTSTART:20200101T000000
END:STANDARD
END:VTIMEZONE
BEGIN:VTIMEZONE
TZID:UTC
BEGIN:STANDARD
TZOFFSETFROM:+0000
TZOFFSETTO:+0000
TZNAME:UTC
DTSTART:20200101T000000
END:STANDARD
END:VTIMEZONE
BEGIN:VEVENT
DTSTART;TZID=UTC:20210812T130000
DTEND;TZID=UTC:20210812T170000
DTSTAMP:20260421T133935
CREATED:20210809T122900Z
LAST-MODIFIED:20210809T122900Z
UID:1345-1628773200-1628787600@www.educafeuk.co.uk
SUMMARY:Zorb Football\, Dunston Park\, Bradley-Moore Square
DESCRIPTION:Free Community Summer Programme \nFor young people in Thatcham aged 11-18 \nFor more information please email admin@berkshireyouth.co.uk
URL:https://www.educafeuk.co.uk/event/zorb-football-dunston-park-bradley-moore-square/
LOCATION:Dunston Park\, Bradley-Moore Square
ORGANIZER;CN="Berkshire Youth":MAILTO:admin@berkshireyouth.co.uk
END:VEVENT
BEGIN:VEVENT
DTSTART;TZID=UTC:20210812T120000
DTEND;TZID=UTC:20210812T180000
DTSTAMP:20260421T133935
CREATED:20210809T152137Z
LAST-MODIFIED:20210809T152137Z
UID:1400-1628769600-1628791200@www.educafeuk.co.uk
SUMMARY:NHS Health on the Move - Grab a Jab
DESCRIPTION:Drop-in for first and second Pfizer for ages 18+. Second jab of Pfizer needs to be at least 8-weeks apart. \n 
URL:https://www.educafeuk.co.uk/event/nhs-health-on-the-move-grab-a-jab/
LOCATION:Greenham Community Centre\, The Nightingales\, Greenham\, Berkshire\, RG14 7SZ
END:VEVENT
BEGIN:VEVENT
DTSTART;TZID=UTC:20210812T100000
DTEND;TZID=UTC:20210812T233000
DTSTAMP:20260421T133935
CREATED:20210809T150102Z
LAST-MODIFIED:20210809T150102Z
UID:1393-1628762400-1628811000@www.educafeuk.co.uk
SUMMARY:Central Family Hub - Play in the Park
DESCRIPTION:Staff from the Central Family Hub\, Thatcham will be running these free sessions in local parks\, they take along various\nsports equipment\, bats & balls\, parachute. \nNo need to book \n\n\n\n\n12th August – Kennet Heath Thatcham RG19 4QH \n19th August – To be confirmed (see Facebook) \nPlease bring plenty of fluids & a healthy snack for you and your child/ren
URL:https://www.educafeuk.co.uk/event/central-family-hub-play-in-the-park/
LOCATION:Kennet Heath Thatcham RG19 4QH
ORGANIZER;CN="Central Family Hub":MAILTO:familyhubs@westberks.gov.uk
END:VEVENT
BEGIN:VEVENT
DTSTART;TZID=UTC:20210812T100000
DTEND;TZID=UTC:20210812T120000
DTSTAMP:20260421T133935
CREATED:20210702T161343Z
LAST-MODIFIED:20210702T161343Z
UID:1074-1628762400-1628769600@www.educafeuk.co.uk
SUMMARY:Dementia Walks - West Berkshire
DESCRIPTION:How to join\nTo book your place or find out about upcoming dates\, please email Victoria Rowland\, our Dementia Coordinator\, at victoria.rowland@ageukberkshire.org.uk. Alternatively\, call us on 0118 959 4242.
URL:https://www.educafeuk.co.uk/event/dementia-walks-west-berkshire-2/
ORGANIZER;CN="Age UK Berkshire":MAILTO: victoria.rowland@ageukberkshire.org.uk
END:VEVENT
BEGIN:VEVENT
DTSTART;TZID=UTC:20210811T130000
DTEND;TZID=UTC:20210811T170000
DTSTAMP:20260421T133935
CREATED:20210809T122647Z
LAST-MODIFIED:20210809T122647Z
UID:1343-1628686800-1628701200@www.educafeuk.co.uk
SUMMARY:Adventure Challenges\, Moors Playing Field
DESCRIPTION:Free Community Summer Programme \nFor young people in Thatcham aged 11-18 \nFor more information please email admin@berkshireyouth.co.uk
URL:https://www.educafeuk.co.uk/event/adventure-challenges-moors-playing-field/
LOCATION:Moorside Community Centre
ORGANIZER;CN="Berkshire Youth":MAILTO:admin@berkshireyouth.co.uk
END:VEVENT
BEGIN:VEVENT
DTSTART;TZID=UTC:20210811T100000
DTEND;TZID=UTC:20210811T233000
DTSTAMP:20260421T133935
CREATED:20210809T145002Z
LAST-MODIFIED:20210809T145002Z
UID:1384-1628676000-1628724600@www.educafeuk.co.uk
SUMMARY:CENTRAL FAMILY HUB - Pop-up Wednesday
DESCRIPTION:4th August – Messy play\n11th August – Let’s get physical\n18th August – Developing Fine Motor skills \n£3.00 per family with children aged 0-6 years \nUnfortunately we cannot accommodate older siblings \nBooking is essential
URL:https://www.educafeuk.co.uk/event/central-family-hub-pop-up-wednesday/
LOCATION:Central Family Hub\, Park Lane\, Thatcham\, West Berkshire\, RG18 3PG
END:VEVENT
BEGIN:VEVENT
DTSTART;TZID=UTC:20210811T100000
DTEND;TZID=UTC:20210811T130000
DTSTAMP:20260421T133935
CREATED:20210809T122440Z
LAST-MODIFIED:20210809T122440Z
UID:1340-1628676000-1628686800@www.educafeuk.co.uk
SUMMARY:Reptile Handling\, Moorside Community Centre*
DESCRIPTION:Free Community Summer Programme \nFor young people in Thatcham aged 11-18 \nFor more information please email admin@berkshireyouth.co.uk
URL:https://www.educafeuk.co.uk/event/reptile-handling-moorside-community-centre/
LOCATION:Moorside Community Centre
ORGANIZER;CN="Berkshire Youth":MAILTO:admin@berkshireyouth.co.uk
END:VEVENT
BEGIN:VEVENT
DTSTART;TZID=UTC:20210810T130000
DTEND;TZID=UTC:20210810T170000
DTSTAMP:20260421T133935
CREATED:20210809T121213Z
LAST-MODIFIED:20210809T121213Z
UID:1331-1628600400-1628614800@www.educafeuk.co.uk
SUMMARY:Inflatables\, Dunston Park\, Bradley-Moore Square
DESCRIPTION:Free Community Summer Programme \nFor young people in Thatcham aged 11-18 \nFor more information please email admin@berkshireyouth.co.uk
URL:https://www.educafeuk.co.uk/event/inflatables-dunston-park-bradley-moore-square/
LOCATION:Dunston Park\, Bradley-Moore Square
ORGANIZER;CN="Berkshire Youth":MAILTO:admin@berkshireyouth.co.uk
END:VEVENT
BEGIN:VEVENT
DTSTART;TZID=UTC:20210809T080000
DTEND;TZID=UTC:20210809T170000
DTSTAMP:20260421T133935
CREATED:20210809T124224Z
LAST-MODIFIED:20210809T124224Z
UID:1353-1628496000-1628528400@www.educafeuk.co.uk
SUMMARY:Craft Morning\, Moorside Community Centre
DESCRIPTION:Free Community Summer Programme \nFor young people in Thatcham aged 11-18 \nFor more information please email admin@berkshireyouth.co.uk
URL:https://www.educafeuk.co.uk/event/craft-morning-moorside-community-centre/
LOCATION:Moorside Community Centre
ORGANIZER;CN="Berkshire Youth":MAILTO:admin@berkshireyouth.co.uk
END:VEVENT
BEGIN:VEVENT
DTSTART;TZID=UTC:20210730T100000
DTEND;TZID=UTC:20210730T120000
DTSTAMP:20260421T133935
CREATED:20210720T172317Z
LAST-MODIFIED:20210720T172317Z
UID:1189-1627639200-1627646400@www.educafeuk.co.uk
SUMMARY:English for Living in the Community
DESCRIPTION:
URL:https://www.educafeuk.co.uk/event/english-for-living-in-the-community-2/
LOCATION:Newbury Town Hall\, Marketplace\, Newbury RG14 5AA\, Newbury\, RG14 5AA\, United Kingdom
ORGANIZER;CN="Educafe":MAILTO:info@educafeuk.co.uk
END:VEVENT
BEGIN:VEVENT
DTSTART;TZID=UTC:20210728T110000
DTEND;TZID=UTC:20210728T150000
DTSTAMP:20260421T133935
CREATED:20210715T133615Z
LAST-MODIFIED:20210715T133615Z
UID:1152-1627470000-1627484400@www.educafeuk.co.uk
SUMMARY:Community Cafe
DESCRIPTION:We would like to invite you to our Community cafe. These are held every Wednesday from 11am – 3pm. \nServices available \n\nDementia friendly\nParent Village
URL:https://www.educafeuk.co.uk/event/community-cafe-2/
LOCATION:The Globe Indoor Garden\, 147 Bartholomew St\, Newbury RG14 5HB\, Newbury\, RG14 5HB\, United Kingdom
ATTACH;FMTTYPE=image/jpeg:https://www.educafeuk.co.uk/wp-content/uploads/2021/06/Community-Cafe-Invitation.jpg
ORGANIZER;CN="Educafe":MAILTO:info@educafeuk.co.uk
END:VEVENT
BEGIN:VEVENT
DTSTART;TZID=UTC:20210723T100000
DTEND;TZID=UTC:20210723T120000
DTSTAMP:20260421T133935
CREATED:20210720T152351Z
LAST-MODIFIED:20210720T152351Z
UID:1187-1627034400-1627041600@www.educafeuk.co.uk
SUMMARY:English for Living in the Community
DESCRIPTION:
URL:https://www.educafeuk.co.uk/event/english-for-living-in-the-community/
LOCATION:Newbury Town Hall\, Marketplace\, Newbury RG14 5AA\, Newbury\, RG14 5AA\, United Kingdom
ORGANIZER;CN="Educafe":MAILTO:info@educafeuk.co.uk
END:VEVENT
BEGIN:VEVENT
DTSTART;TZID=UTC:20210721T110000
DTEND;TZID=UTC:20210721T150000
DTSTAMP:20260421T133935
CREATED:20210601T125537Z
LAST-MODIFIED:20210715T130835Z
UID:693-1626865200-1626879600@www.educafeuk.co.uk
SUMMARY:Community Café
DESCRIPTION:We would like to invite you to our first Community cafe. These are going to be held every Wednesday from 11am – 3pm. We will update you on the partners that will be there each week.
URL:https://www.educafeuk.co.uk/event/community-cafe/
LOCATION:The Globe Indoor Garden\, 147 Bartholomew St\, Newbury RG14 5HB\, Newbury\, RG14 5HB\, United Kingdom
ATTACH;FMTTYPE=image/png:https://www.educafeuk.co.uk/wp-content/uploads/2021/05/Community-Cafe.png
ORGANIZER;CN="Educafe":MAILTO:info@educafeuk.co.uk
END:VEVENT
BEGIN:VEVENT
DTSTART;TZID=UTC:20210715T100000
DTEND;TZID=UTC:20210715T120000
DTSTAMP:20260421T133935
CREATED:20210702T155852Z
LAST-MODIFIED:20210702T155852Z
UID:1071-1626343200-1626350400@www.educafeuk.co.uk
SUMMARY:Dementia Walks - West Berkshire
DESCRIPTION:How to join\nTo book your place or find out about upcoming dates\, please email Victoria Rowland\, our Dementia Coordinator\, at victoria.rowland@ageukberkshire.org.uk. Alternatively\, call us on 0118 959 4242.
URL:https://www.educafeuk.co.uk/event/dementia-walks-west-berkshire/
END:VEVENT
BEGIN:VEVENT
DTSTART;TZID=UTC:20210712T110000
DTEND;TZID=UTC:20210712T160000
DTSTAMP:20260421T133935
CREATED:20210702T163627Z
LAST-MODIFIED:20210702T163901Z
UID:1087-1626087600-1626105600@www.educafeuk.co.uk
SUMMARY:Health on the Move Van - Thatcham - COVID-19 Vaccinations
DESCRIPTION:We appreciate that for some people it’s not easy to get to a Covid-19 vaccination centre\, which is why we’re bringing the van closer to you. We know that some people still have questions about the vaccine so we’ve got local\, trusted medical professionals on hand to help. They are ready to answer any of your questions and offer you the vaccination. \nThe van is open to anyone aged 18 and over.You don’t have to be registered with a GP to pay us a visit. \nWe all need to play our part in kicking Covid into touch and making sure our families\, friends and communities are protected from the virus. The vaccination is the best way of doing this. \nSo please book your appointment now using the details below\, because the quicker we all get jabbed the quicker we can all get back to doing things that we’ve missed so much. \n\n\n\n\nThe Central Family Hub\, Thatcham RG18 3PG \nOn: 12 July 11am – 4pm\nTo book: Emma on 01635 865318 \nEmail:
URL:https://www.educafeuk.co.uk/event/health-on-the-move-van-thatcham-covid-19-vaccinations/
LOCATION:Central Family Hub\, Park Lane\, Thatcham\, West Berkshire\, RG18 3PG
ORGANIZER;CN="NHS Berkshire West":MAILTO:emma.halford-meakin1@westberks.gov.uk
END:VEVENT
BEGIN:VEVENT
DTSTART;TZID=UTC:20210627T110000
DTEND;TZID=UTC:20210627T160000
DTSTAMP:20260421T133935
CREATED:20210601T123109Z
LAST-MODIFIED:20210610T100420Z
UID:677-1624791600-1624809600@www.educafeuk.co.uk
SUMMARY:Thatcham Family Fun Day
DESCRIPTION:Thatcham Family Fun Day – Come along and meet us! \n\n\n\n\n\n\n\n\n\n\n\nThatcham’s Family Fun Day is an annual event held on the final Sunday in June at Henwick Worthy Sports Ground\, Thatcham.\n\n\n\n\n\n\n\n\n\n\n\n\n\n\n\n\n\n\n\n\n\n\n\nThatcham Family Fun Day is a FREE annual event held on the final Sunday in June at Henwick Worthy Sports Ground\, Thatcham.\nOrganised by Thatcham Town Council with support from Thatcham Rotary Club and Hi5 Running Group
URL:https://www.educafeuk.co.uk/event/thatcham-family-fun-day/
LOCATION:Henwick Worthy Sports Ground
ATTACH;FMTTYPE=image/png:https://www.educafeuk.co.uk/wp-content/uploads/2021/06/thatcham.png
END:VEVENT
BEGIN:VEVENT
DTSTART;TZID=UTC:20210618T100000
DTEND;TZID=UTC:20210618T130000
DTSTAMP:20260421T133935
CREATED:20210601T124631Z
LAST-MODIFIED:20210610T100956Z
UID:684-1624010400-1624021200@www.educafeuk.co.uk
SUMMARY:Job Support Club and ESOL for work course
DESCRIPTION:Educafe’s language support courses are designed to work with individuals to improve their employability and work skills.  Improved language skills also encourage engagement with the wider community. \nWe have a new English for work course starting in June which includes employability workshops delivered by our partners.   It’s free for eligible residents in West Berkshire and includes employability workshops from local agencies. \nLearners can sign-up here https://form.jotform.com/EDUCAFE/educafe-language-support-course-reg  \nOr Email info@educafeuk.co.uk \n 
URL:https://www.educafeuk.co.uk/event/job-support-esol-2/
LOCATION:Newbury Town Hall\, Marketplace\, Newbury RG14 5AA\, Newbury\, RG14 5AA\, United Kingdom
ATTACH;FMTTYPE=image/jpeg:https://www.educafeuk.co.uk/wp-content/uploads/2021/05/ESOL.jpg
ORGANIZER;CN="Educafe":MAILTO:info@educafeuk.co.uk
END:VEVENT
BEGIN:VEVENT
DTSTART;TZID=UTC:20210611T100000
DTEND;TZID=UTC:20210611T130000
DTSTAMP:20260421T133935
CREATED:20210523T215745Z
LAST-MODIFIED:20210610T100914Z
UID:477-1623405600-1623416400@www.educafeuk.co.uk
SUMMARY:JOB SUPPORT CLUB AND ESOL FOR WORK COURSE
DESCRIPTION:Educafe’s language support courses are designed to work with individuals to improve their employability and work skills.  Improved language skills also encourage engagement with the wider community. \nWe have a new English for work course starting in June which includes employability workshops delivered by our partners.   It’s free for eligible residents in West Berkshire and includes employability workshops from local agencies. \nLearners can sign-up here  \nhttps://form.jotform.com/EDUCAFE/educafe-language-support-course-reg \nOr Just email info@educafeuk.co.uk
URL:https://www.educafeuk.co.uk/event/job-support-esol/
LOCATION:Newbury Town Hall\, Marketplace\, Newbury RG14 5AA\, Newbury\, RG14 5AA\, United Kingdom
ATTACH;FMTTYPE=image/jpeg:https://www.educafeuk.co.uk/wp-content/uploads/2021/05/ESOL.jpg
ORGANIZER;CN="Educafe":MAILTO:info@educafeuk.co.uk
END:VEVENT
END:VCALENDAR